BEGIN:VCALENDAR
VERSION:2.0
PRODID:-//GALAXOS - ECPv6.15.18//NONSGML v1.0//EN
CALSCALE:GREGORIAN
METHOD:PUBLISH
X-WR-CALNAME:GALAXOS
X-ORIGINAL-URL:https://galaxos.de
X-WR-CALDESC:Veranstaltungen für GALAXOS
REFRESH-INTERVAL;VALUE=DURATION:PT1H
X-Robots-Tag:noindex
X-PUBLISHED-TTL:PT1H
BEGIN:VTIMEZONE
TZID:Europe/Berlin
BEGIN:DAYLIGHT
TZOFFSETFROM:+0100
TZOFFSETTO:+0200
TZNAME:CEST
DTSTART:20250330T010000
END:DAYLIGHT
BEGIN:STANDARD
TZOFFSETFROM:+0200
TZOFFSETTO:+0100
TZNAME:CET
DTSTART:20251026T010000
END:STANDARD
BEGIN:DAYLIGHT
TZOFFSETFROM:+0100
TZOFFSETTO:+0200
TZNAME:CEST
DTSTART:20260329T010000
END:DAYLIGHT
BEGIN:STANDARD
TZOFFSETFROM:+0200
TZOFFSETTO:+0100
TZNAME:CET
DTSTART:20261025T010000
END:STANDARD
BEGIN:DAYLIGHT
TZOFFSETFROM:+0100
TZOFFSETTO:+0200
TZNAME:CEST
DTSTART:20270328T010000
END:DAYLIGHT
BEGIN:STANDARD
TZOFFSETFROM:+0200
TZOFFSETTO:+0100
TZNAME:CET
DTSTART:20271031T010000
END:STANDARD
END:VTIMEZONE
BEGIN:VEVENT
DTSTART;TZID=Europe/Berlin:20260606T170000
DTEND;TZID=Europe/Berlin:20260606T181500
DTSTAMP:20260422T142009
CREATED:20240709T084218Z
LAST-MODIFIED:20260214T144431Z
UID:2160-1780765200-1780769700@galaxos.de
SUMMARY:GALAXOS - Jahreseröffnungskonzert - Jo Doll/Marimba & Jasmin Hansjosten/Handpan
DESCRIPTION:
URL:https://galaxos.de/event/galaxos-jahreseroeffnungskonzert-2/
LOCATION:Radom Wasserkuppe\, Wasserkuppe 950\, Gersfeld\, Hessen\, 36129\, Deutschland
CATEGORIES:Konzert
END:VEVENT
BEGIN:VEVENT
DTSTART;TZID=Europe/Berlin:20260606T190000
DTEND;TZID=Europe/Berlin:20260606T201500
DTSTAMP:20260422T142009
CREATED:20240709T084459Z
LAST-MODIFIED:20260214T144118Z
UID:2162-1780772400-1780776900@galaxos.de
SUMMARY:GALAXOS - Jahreseröffnungsskonzert - Jo Doll/Marimba & Jasmin Hansjosten/Handpan
DESCRIPTION:
URL:https://galaxos.de/event/galaxos-jahreseroeffnungsskonzert/
LOCATION:Radom Wasserkuppe\, Wasserkuppe 950\, Gersfeld\, Hessen\, 36129\, Deutschland
CATEGORIES:Konzert
END:VEVENT
BEGIN:VEVENT
DTSTART;TZID=Europe/Berlin:20260614T150000
DTEND;TZID=Europe/Berlin:20260614T154500
DTSTAMP:20260422T142009
CREATED:20240709T085022Z
LAST-MODIFIED:20260214T143923Z
UID:2168-1781449200-1781451900@galaxos.de
SUMMARY:GALAXOS - Circumpolar (im Dunkeln)
DESCRIPTION:Sphärisches Konzert im Dunkeln unter dem RADOM-Sternenzelt
URL:https://galaxos.de/event/galaxos-concert-in-the-dark-6/
LOCATION:Radom Wasserkuppe\, Wasserkuppe 950\, Gersfeld\, Hessen\, 36129\, Deutschland
CATEGORIES:Konzert
ATTACH;FMTTYPE=image/jpeg:https://galaxos.de/wp-content/uploads/2024/07/Concert-in-the-Dark.jpg
END:VEVENT
BEGIN:VEVENT
DTSTART;TZID=Europe/Berlin:20260614T160000
DTEND;TZID=Europe/Berlin:20260614T170000
DTSTAMP:20260422T142009
CREATED:20240709T090221Z
LAST-MODIFIED:20260214T143646Z
UID:2184-1781452800-1781456400@galaxos.de
SUMMARY:GALAXOS - Surround 12.1
DESCRIPTION:Das einmalige Klangerlebnis im Radom auf der Wasserkuppe\nSurround 12.1: Musik und Klang live und in 12-Kanal-Raumklang + Subwoofer\, im höchst gelegenen Konzertsaal Deutschlands. Mit Piano\, Synthesizer und\, je nach Programm\, Modular System\, Gongs\, Flöten\, Donnerrohr mit Musik und Klangeffekten aus 12 kleinen Lautsprechern und mit unterschiedlicher\, farbiger Beleuchtung der Kuppel
URL:https://galaxos.de/event/galaxos-surround-12-1-3/
LOCATION:Radom Wasserkuppe\, Wasserkuppe 950\, Gersfeld\, Hessen\, 36129\, Deutschland
CATEGORIES:Konzert
ATTACH;FMTTYPE=image/jpeg:https://galaxos.de/wp-content/uploads/2023/08/Marius-Auth.jpg
END:VEVENT
BEGIN:VEVENT
DTSTART;TZID=Europe/Berlin:20260719T150000
DTEND;TZID=Europe/Berlin:20260719T154500
DTSTAMP:20260422T142009
CREATED:20260210T092724Z
LAST-MODIFIED:20260214T143522Z
UID:2556-1784473200-1784475900@galaxos.de
SUMMARY:GALAXOS - Circumpolar (im Dunkeln)
DESCRIPTION:Sphärisches Konzert im Dunkeln unter dem RADOM-Sternenzelt
URL:https://galaxos.de/event/galaxos-circumpolar-im-dunkeln-2/
CATEGORIES:Konzert
END:VEVENT
BEGIN:VEVENT
DTSTART;TZID=Europe/Berlin:20260719T160000
DTEND;TZID=Europe/Berlin:20260719T170000
DTSTAMP:20260422T142009
CREATED:20260210T091700Z
LAST-MODIFIED:20260214T143331Z
UID:2552-1784476800-1784480400@galaxos.de
SUMMARY:GALAXOS - Surround 12.1
DESCRIPTION:Das einmalige Klangerlebnis im Radom auf der Wasserkuppe\nSurround 12.1: Musik und Klang live und in 12-Kanal-Raumklang + Subwoofer\, im höchst gelegenen Konzertsaal Deutschlands. Mit Piano\, Synthesizer und\, je nach Programm\, Modular System\, Gongs\, Flöten\, Donnerrohr mit Musik und Klangeffekten aus 12 kleinen Lautsprechern und mit unterschiedlicher\, farbiger Beleuchtung der Kuppel
URL:https://galaxos.de/event/galaxos-surround-12-1-2/
CATEGORIES:Konzert
END:VEVENT
BEGIN:VEVENT
DTSTART;TZID=Europe/Berlin:20260823T150000
DTEND;TZID=Europe/Berlin:20260823T154500
DTSTAMP:20260422T142009
CREATED:20260210T092853Z
LAST-MODIFIED:20260214T142526Z
UID:2558-1787497200-1787499900@galaxos.de
SUMMARY:GALAXOS - Circumpolar (im Dunkeln)
DESCRIPTION:Sphärisches Konzert im Dunkeln unter dem RADOM-Sternenzelt
URL:https://galaxos.de/event/galaxos-circumpolar-im-dunkeln-3/
CATEGORIES:Konzert
END:VEVENT
BEGIN:VEVENT
DTSTART;TZID=Europe/Berlin:20260823T160000
DTEND;TZID=Europe/Berlin:20260823T170000
DTSTAMP:20260422T142009
CREATED:20260210T092458Z
LAST-MODIFIED:20260214T142137Z
UID:2554-1787500800-1787504400@galaxos.de
SUMMARY:GALAXOS - Surround 12.1
DESCRIPTION:Das einmalige Klangerlebnis im Radom auf der Wasserkuppe\nSurround 12.1: Musik und Klang live und in 12-Kanal-Raumklang + Subwoofer\, im höchst gelegenen Konzertsaal Deutschlands. Mit Piano\, Synthesizer und\, je nach Programm\, Modular System\, Gongs\, Flöten\, Donnerrohr mit Musik und Klangeffekten aus 12 kleinen Lautsprechern und mit unterschiedlicher\, farbiger Beleuchtung der Kuppel
URL:https://galaxos.de/event/galaxos-surround-12-1-4/
CATEGORIES:Konzert
END:VEVENT
BEGIN:VEVENT
DTSTART;TZID=Europe/Berlin:20260906T150000
DTEND;TZID=Europe/Berlin:20260906T160000
DTSTAMP:20260422T142009
CREATED:20251025T070840Z
LAST-MODIFIED:20260214T141938Z
UID:2533-1788706800-1788710400@galaxos.de
SUMMARY:GALAXOS - Circumpolar (im Dunkeln)
DESCRIPTION:Sphärisches Konzert im Dunkeln unter dem RADOM-Sternenzelt
URL:https://galaxos.de/event/galaxos-circumpolar-im-dunkeln/
LOCATION:Radom Wasserkuppe\, Wasserkuppe 950\, Gersfeld\, Hessen\, 36129\, Deutschland
CATEGORIES:Konzert
END:VEVENT
BEGIN:VEVENT
DTSTART;TZID=Europe/Berlin:20260906T160000
DTEND;TZID=Europe/Berlin:20260906T170000
DTSTAMP:20260422T142009
CREATED:20251025T071000Z
LAST-MODIFIED:20260214T141730Z
UID:2535-1788710400-1788714000@galaxos.de
SUMMARY:GALAXOS - Surround 12.1
DESCRIPTION:Das einmalige Klangerlebnis im Radom auf der Wasserkuppe\nSurround 12.1: Musik und Klang live und in 12-Kanal-Raumklang + Subwoofer\, im höchst gelegenen Konzertsaal Deutschlands. Mit Piano\, Synthesizer und\, je nach Programm\, Modular System\, Gongs\, Flöten\, Donnerrohr mit Musik und Klangeffekten aus 12 kleinen Lautsprechern und mit unterschiedlicher\, farbiger Beleuchtung der Kuppel
URL:https://galaxos.de/event/galaxos-surround-12-1/
LOCATION:Radom Wasserkuppe\, Wasserkuppe 950\, Gersfeld\, Hessen\, 36129\, Deutschland
CATEGORIES:Konzert
END:VEVENT
BEGIN:VEVENT
DTSTART;TZID=Europe/Berlin:20260919T170000
DTEND;TZID=Europe/Berlin:20260919T181500
DTSTAMP:20260422T142009
CREATED:20240709T085809Z
LAST-MODIFIED:20260214T141445Z
UID:2177-1789837200-1789841700@galaxos.de
SUMMARY:GALAXOS - Jahresabschlusskonzert
DESCRIPTION:
URL:https://galaxos.de/event/galaxos-jahresabschlusskonzert-3/
LOCATION:Radom Wasserkuppe\, Wasserkuppe 950\, Gersfeld\, Hessen\, 36129\, Deutschland
CATEGORIES:Konzert
END:VEVENT
BEGIN:VEVENT
DTSTART;TZID=Europe/Berlin:20260919T190000
DTEND;TZID=Europe/Berlin:20260919T201500
DTSTAMP:20260422T142009
CREATED:20240709T085904Z
LAST-MODIFIED:20260214T141219Z
UID:2179-1789844400-1789848900@galaxos.de
SUMMARY:GALAXOS - Jahresabschlusskonzert
DESCRIPTION:
URL:https://galaxos.de/event/galaxos-jahresabschlusskonzert-6/
LOCATION:Radom Wasserkuppe\, Wasserkuppe 950\, Gersfeld\, Hessen\, 36129\, Deutschland
CATEGORIES:Konzert
END:VEVENT
END:VCALENDAR